BEGIN:VCALENDAR
VERSION:2.0
PRODID:-//Key Boards And ketchup - ECPv6.15.20//NONSGML v1.0//EN
CALSCALE:GREGORIAN
METHOD:PUBLISH
X-WR-CALNAME:Key Boards And ketchup
X-ORIGINAL-URL:https://keyboardsandketchup.org
X-WR-CALDESC:Events for Key Boards And ketchup
REFRESH-INTERVAL;VALUE=DURATION:PT1H
X-Robots-Tag:noindex
X-PUBLISHED-TTL:PT1H
BEGIN:VTIMEZONE
TZID:UTC
BEGIN:STANDARD
TZOFFSETFROM:+0000
TZOFFSETTO:+0000
TZNAME:UTC
DTSTART:20250101T000000
END:STANDARD
END:VTIMEZONE
BEGIN:VEVENT
DTSTART;VALUE=DATE:20260809
DTEND;VALUE=DATE:20260810
DTSTAMP:20260421T221912
CREATED:20200909T040227Z
LAST-MODIFIED:20250124T140849Z
UID:2060-1786233600-1786319999@keyboardsandketchup.org
SUMMARY:Use Hashtags To Support Online
DESCRIPTION:Keyboards and Ketchup made it to Mexico again\, this time Playa Del Carmen. We visited Kodomo\, Inc. a specialized center for people with autism. Its purpose is to make specialized therapies available to a greater number of families for proper management and improvement of the quality of life of children and young adults.
URL:https://keyboardsandketchup.org/event/use-hashtags-to-support-online/
LOCATION:Mexico\, Playa Del Carmen\, Mexico\, Playa Del Carmen
CATEGORIES:Children,Donation
ATTACH;FMTTYPE=image/png:https://keyboardsandketchup.org/wp-content/uploads/2020/09/image-15.png
END:VEVENT
END:VCALENDAR